Package: shinyMethyl Version: 1.43.0 Command: /home/biocbuild/bbs-3.21-bioc/R/bin/R CMD check --install=check:shinyMethyl.install-out.txt --library=/home/biocbuild/bbs-3.21-bioc/R/site-library --timings shinyMethyl_1.43.0.tar.gz StartedAt: 2025-02-19 02:13:19 -0500 (Wed, 19 Feb 2025) EndedAt: 2025-02-19 02:19:26 -0500 (Wed, 19 Feb 2025) EllapsedTime: 367.7 seconds RetCode: 0 Status: OK CheckDir: shinyMethyl.Rcheck Warnings: 0