Package: sevenbridges Version: 1.37.0 Command: E:\biocbuild\bbs-3.21-bioc\R\bin\R.exe CMD check --no-multiarch --install=check:sevenbridges.install-out.txt --library=E:\biocbuild\bbs-3.21-bioc\R\library --no-vignettes --timings sevenbridges_1.37.0.tar.gz StartedAt: 2025-02-20 05:25:18 -0500 (Thu, 20 Feb 2025) EndedAt: 2025-02-20 05:28:48 -0500 (Thu, 20 Feb 2025) EllapsedTime: 209.8 seconds RetCode: 0 Status: OK CheckDir: sevenbridges.Rcheck Warnings: 0