Package: sevenbridges Version: 1.37.0 Command: /home/biocbuild/bbs-3.21-bioc/R/bin/R CMD check --install=check:sevenbridges.install-out.txt --library=/home/biocbuild/bbs-3.21-bioc/R/site-library --timings sevenbridges_1.37.0.tar.gz StartedAt: 2025-02-20 02:27:21 -0500 (Thu, 20 Feb 2025) EndedAt: 2025-02-20 02:30:47 -0500 (Thu, 20 Feb 2025) EllapsedTime: 205.4 seconds RetCode: 0 Status: OK CheckDir: sevenbridges.Rcheck Warnings: 0