Package: sevenC Version: 1.27.0 Command: chmod a+r sevenC -R && E:\biocbuild\bbs-3.21-bioc\R\bin\R.exe CMD build --keep-empty-dirs --no-resave-data sevenC StartedAt: 2025-02-19 21:38:54 -0500 (Wed, 19 Feb 2025) EndedAt: 2025-02-19 21:40:35 -0500 (Wed, 19 Feb 2025) EllapsedTime: 101.2 seconds RetCode: 0 Status: OK PackageFile: sevenC_1.27.0.tar.gz PackageFileSize: 1.921 MiB