Package: sevenC Version: 1.27.0 Command: rm -rf sevenC.buildbin-libdir && mkdir sevenC.buildbin-libdir && E:\biocbuild\bbs-3.21-bioc\R\bin\R.exe CMD INSTALL --build --library=sevenC.buildbin-libdir sevenC_1.27.0.tar.gz StartedAt: 2025-02-20 08:45:53 -0500 (Thu, 20 Feb 2025) EndedAt: 2025-02-20 08:46:43 -0500 (Thu, 20 Feb 2025) EllapsedTime: 49.5 seconds RetCode: 0 Status: OK PackageFile: sevenC_1.27.0.zip PackageFileSize: 2.031 MiB