Package: seqsetvis Version: 1.27.2 Command: E:\biocbuild\bbs-3.21-bioc\R\bin\R.exe CMD INSTALL seqsetvis StartedAt: 2025-02-20 16:14:58 -0500 (Thu, 20 Feb 2025) EndedAt: 2025-02-20 16:16:23 -0500 (Thu, 20 Feb 2025) EllapsedTime: 84.7 seconds RetCode: 0 Status: OK