Package: seqsetvis Version: 1.27.2 Command: E:\biocbuild\bbs-3.21-bioc\R\bin\R.exe CMD check --no-multiarch --install=check:seqsetvis.install-out.txt --library=E:\biocbuild\bbs-3.21-bioc\R\library --no-vignettes --timings seqsetvis_1.27.2.tar.gz StartedAt: 2025-02-21 05:41:05 -0500 (Fri, 21 Feb 2025) EndedAt: 2025-02-21 05:52:15 -0500 (Fri, 21 Feb 2025) EllapsedTime: 670.3 seconds RetCode: 0 Status: OK CheckDir: seqsetvis.Rcheck Warnings: 0