Package: seqcombo Version: 1.29.0 Command: chmod a+r seqcombo -R && E:\biocbuild\bbs-3.21-bioc\R\bin\R.exe CMD build --keep-empty-dirs --no-resave-data seqcombo StartedAt: 2025-02-20 21:45:10 -0500 (Thu, 20 Feb 2025) EndedAt: 2025-02-20 21:45:37 -0500 (Thu, 20 Feb 2025) EllapsedTime: 26.8 seconds RetCode: 0 Status: OK PackageFile: seqcombo_1.29.0.tar.gz PackageFileSize: 686.6 KiB