Package: seqcombo Version: 1.29.0 Command: /home/biocbuild/bbs-3.21-bioc/R/bin/R CMD INSTALL seqcombo StartedAt: 2025-02-19 15:08:24 -0500 (Wed, 19 Feb 2025) EndedAt: 2025-02-19 15:08:38 -0500 (Wed, 19 Feb 2025) EllapsedTime: 14.8 seconds RetCode: 0 Status: OK