Package: seqcombo Version: 1.29.0 Command: /Library/Frameworks/R.framework/Resources/bin/R CMD build --keep-empty-dirs --no-resave-data seqcombo StartedAt: 2025-02-19 18:14:55 -0500 (Wed, 19 Feb 2025) EndedAt: 2025-02-19 18:15:12 -0500 (Wed, 19 Feb 2025) EllapsedTime: 17.1 seconds RetCode: 0 Status: OK PackageFile: seqcombo_1.29.0.tar.gz PackageFileSize: 1.192 MiB