Package: seqTools Version: 1.41.0 Command: E:\biocbuild\bbs-3.21-bioc\R\bin\R.exe CMD INSTALL seqTools StartedAt: 2025-02-20 15:17:20 -0500 (Thu, 20 Feb 2025) EndedAt: 2025-02-20 15:17:55 -0500 (Thu, 20 Feb 2025) EllapsedTime: 34.7 seconds RetCode: 0 Status: OK