Package: seqTools Version: 1.41.0 Command: chmod a+r seqTools -R && E:\biocbuild\bbs-3.21-bioc\R\bin\R.exe CMD build --keep-empty-dirs --no-resave-data seqTools StartedAt: 2025-02-20 21:46:30 -0500 (Thu, 20 Feb 2025) EndedAt: 2025-02-20 21:49:45 -0500 (Thu, 20 Feb 2025) EllapsedTime: 195.7 seconds RetCode: 0 Status: OK PackageFile: seqTools_1.41.0.tar.gz PackageFileSize: 366 KiB