Package: seqTools Version: 1.41.0 Command: rm -rf seqTools.buildbin-libdir && mkdir seqTools.buildbin-libdir && E:\biocbuild\bbs-3.21-bioc\R\bin\R.exe CMD INSTALL --build --library=seqTools.buildbin-libdir seqTools_1.41.0.tar.gz StartedAt: 2025-02-21 09:05:28 -0500 (Fri, 21 Feb 2025) EndedAt: 2025-02-21 09:06:41 -0500 (Fri, 21 Feb 2025) EllapsedTime: 73.0 seconds RetCode: 0 Status: OK PackageFile: seqTools_1.41.0.zip PackageFileSize: 655 KiB