Package: seqTools Version: 1.41.0 Command: /home/biocbuild/bbs-3.21-bioc/R/bin/R CMD build --keep-empty-dirs --no-resave-data seqTools StartedAt: 2025-02-20 19:16:20 -0500 (Thu, 20 Feb 2025) EndedAt: 2025-02-20 19:16:33 -0500 (Thu, 20 Feb 2025) EllapsedTime: 13.0 seconds RetCode: 0 Status: OK PackageFile: seqTools_1.41.0.tar.gz PackageFileSize: 536.2 KiB