Package: seqTools Version: 1.41.0 Command: rm -rf seqTools.buildbin-libdir && mkdir seqTools.buildbin-libdir && /Users/biocbuild/BBS/utils/build-universal.sh seqTools_1.41.0.tar.gz /Library/Frameworks/R.framework/Resources/bin/R seqTools.buildbin-libdir StartedAt: 2025-02-21 00:53:18 -0500 (Fri, 21 Feb 2025) EndedAt: 2025-02-21 00:53:31 -0500 (Fri, 21 Feb 2025) EllapsedTime: 12.7 seconds RetCode: 0 Status: OK PackageFile: seqTools_1.41.0.tgz PackageFileSize: 821.9 KiB