Package: seqTools Version: 1.41.0 Command: /Library/Frameworks/R.framework/Resources/bin/R CMD INSTALL seqTools StartedAt: 2025-02-20 15:01:04 -0500 (Thu, 20 Feb 2025) EndedAt: 2025-02-20 15:01:09 -0500 (Thu, 20 Feb 2025) EllapsedTime: 5.1 seconds RetCode: 0 Status: OK