Package: seqTools Version: 1.41.0 Command: /Library/Frameworks/R.framework/Resources/bin/R CMD check --install=check:seqTools.install-out.txt --library=/Library/Frameworks/R.framework/Resources/library --no-vignettes --timings seqTools_1.41.0.tar.gz StartedAt: 2025-02-20 21:24:20 -0500 (Thu, 20 Feb 2025) EndedAt: 2025-02-20 21:24:33 -0500 (Thu, 20 Feb 2025) EllapsedTime: 13.1 seconds RetCode: 0 Status: WARNINGS CheckDir: seqTools.Rcheck Warnings: 4