Package: seqTools Version: 1.41.0 Command: rm -rf seqTools.buildbin-libdir && mkdir seqTools.buildbin-libdir && /Users/biocbuild/BBS/utils/build-universal.sh seqTools_1.41.0.tar.gz /Library/Frameworks/R.framework/Resources/bin/R seqTools.buildbin-libdir StartedAt: 2025-02-20 22:35:25 -0500 (Thu, 20 Feb 2025) EndedAt: 2025-02-20 22:35:29 -0500 (Thu, 20 Feb 2025) EllapsedTime: 4.1 seconds RetCode: 0 Status: OK PackageFile: seqTools_1.41.0.tgz PackageFileSize: 821.6 KiB