Package: seqPattern Version: 1.39.0 Command: /home/biocbuild/bbs-3.21-bioc/R/bin/R CMD build --keep-empty-dirs --no-resave-data seqPattern StartedAt: 2025-02-20 19:16:04 -0500 (Thu, 20 Feb 2025) EndedAt: 2025-02-20 19:16:35 -0500 (Thu, 20 Feb 2025) EllapsedTime: 31.0 seconds RetCode: 0 Status: OK PackageFile: seqPattern_1.39.0.tar.gz PackageFileSize: 5.368 MiB