Package: seqPattern Version: 1.39.0 Command: /home/biocbuild/R/R/bin/R CMD check --install=check:seqPattern.install-out.txt --library=/home/biocbuild/R/R/site-library --no-vignettes --timings seqPattern_1.39.0.tar.gz StartedAt: 2025-01-28 15:15:25 -0000 (Tue, 28 Jan 2025) EndedAt: 2025-01-28 15:17:55 -0000 (Tue, 28 Jan 2025) EllapsedTime: 150.2 seconds RetCode: 0 Status: OK CheckDir: seqPattern.Rcheck Warnings: 0