Package: seqLogo Version: 1.73.0 Command: chmod a+r seqLogo -R && E:\biocbuild\bbs-3.21-bioc\R\bin\R.exe CMD build --keep-empty-dirs --no-resave-data seqLogo StartedAt: 2025-02-19 21:37:22 -0500 (Wed, 19 Feb 2025) EndedAt: 2025-02-19 21:37:39 -0500 (Wed, 19 Feb 2025) EllapsedTime: 16.8 seconds RetCode: 0 Status: OK PackageFile: seqLogo_1.73.0.tar.gz PackageFileSize: 825.8 KiB