Package: seqLogo Version: 1.73.0 Command: /Library/Frameworks/R.framework/Resources/bin/R CMD INSTALL seqLogo StartedAt: 2025-02-19 15:04:53 -0500 (Wed, 19 Feb 2025) EndedAt: 2025-02-19 15:05:27 -0500 (Wed, 19 Feb 2025) EllapsedTime: 33.9 seconds RetCode: 0 Status: OK