Package: seqLogo Version: 1.73.0 Command: /Library/Frameworks/R.framework/Resources/bin/R CMD check --install=check:seqLogo.install-out.txt --library=/Library/Frameworks/R.framework/Resources/library --no-vignettes --timings seqLogo_1.73.0.tar.gz StartedAt: 2025-02-20 23:12:42 -0500 (Thu, 20 Feb 2025) EndedAt: 2025-02-20 23:13:15 -0500 (Thu, 20 Feb 2025) EllapsedTime: 33.3 seconds RetCode: 0 Status: OK CheckDir: seqLogo.Rcheck Warnings: 0