Package: seqLogo Version: 1.73.0 Command: /Library/Frameworks/R.framework/Resources/bin/R CMD INSTALL seqLogo StartedAt: 2025-02-19 15:02:08 -0500 (Wed, 19 Feb 2025) EndedAt: 2025-02-19 15:02:14 -0500 (Wed, 19 Feb 2025) EllapsedTime: 5.8 seconds RetCode: 0 Status: OK