Package: seqLogo Version: 1.73.0 Command: /Library/Frameworks/R.framework/Resources/bin/R CMD check --install=check:seqLogo.install-out.txt --library=/Library/Frameworks/R.framework/Resources/library --no-vignettes --timings seqLogo_1.73.0.tar.gz StartedAt: 2025-02-19 21:26:46 -0500 (Wed, 19 Feb 2025) EndedAt: 2025-02-19 21:26:59 -0500 (Wed, 19 Feb 2025) EllapsedTime: 13.2 seconds RetCode: 0 Status: OK CheckDir: seqLogo.Rcheck Warnings: 0