Package: seqLogo Version: 1.73.0 Command: /Library/Frameworks/R.framework/Resources/bin/R CMD build --keep-empty-dirs --no-resave-data seqLogo StartedAt: 2025-02-19 17:37:13 -0500 (Wed, 19 Feb 2025) EndedAt: 2025-02-19 17:37:17 -0500 (Wed, 19 Feb 2025) EllapsedTime: 4.1 seconds RetCode: 0 Status: OK PackageFile: seqLogo_1.73.0.tar.gz PackageFileSize: 1.152 MiB