Package: seqLogo Version: 1.73.0 Command: rm -rf seqLogo.buildbin-libdir && mkdir seqLogo.buildbin-libdir && /Users/biocbuild/BBS/utils/build-universal.sh seqLogo_1.73.0.tar.gz /Library/Frameworks/R.framework/Resources/bin/R seqLogo.buildbin-libdir StartedAt: 2025-02-20 22:35:20 -0500 (Thu, 20 Feb 2025) EndedAt: 2025-02-20 22:35:22 -0500 (Thu, 20 Feb 2025) EllapsedTime: 2.0 seconds RetCode: 0 Status: OK PackageFile: seqLogo_1.73.0.tgz PackageFileSize: 863.8 KiB