Package: seqCAT Version: 1.29.0 Command: E:\biocbuild\bbs-3.21-bioc\R\bin\R.exe CMD INSTALL seqCAT StartedAt: 2025-02-19 16:49:47 -0500 (Wed, 19 Feb 2025) EndedAt: 2025-02-19 16:50:32 -0500 (Wed, 19 Feb 2025) EllapsedTime: 45.3 seconds RetCode: 0 Status: OK