Package: seqArchRplus Version: 1.7.0 Command: /home/biocbuild/bbs-3.21-bioc/R/bin/R CMD check --install=check:seqArchRplus.install-out.txt --library=/home/biocbuild/bbs-3.21-bioc/R/site-library --timings seqArchRplus_1.7.0.tar.gz StartedAt: 2025-02-21 01:49:24 -0500 (Fri, 21 Feb 2025) EndedAt: 2025-02-21 01:56:25 -0500 (Fri, 21 Feb 2025) EllapsedTime: 420.7 seconds RetCode: 0 Status: WARNINGS CheckDir: seqArchRplus.Rcheck Warnings: 1