Package: seqArchRplus Version: 1.7.0 Command: /home/biocbuild/bbs-3.21-bioc/R/bin/R CMD build --keep-empty-dirs --no-resave-data seqArchRplus StartedAt: 2025-02-20 19:15:30 -0500 (Thu, 20 Feb 2025) EndedAt: 2025-02-20 19:18:04 -0500 (Thu, 20 Feb 2025) EllapsedTime: 153.2 seconds RetCode: 0 Status: OK PackageFile: seqArchRplus_1.7.0.tar.gz PackageFileSize: 2.962 MiB