Package: seqArchRplus Version: 1.7.0 Command: /Library/Frameworks/R.framework/Resources/bin/R CMD check --install=check:seqArchRplus.install-out.txt --library=/Library/Frameworks/R.framework/Resources/library --no-vignettes --timings seqArchRplus_1.7.0.tar.gz StartedAt: 2025-02-20 23:12:17 -0500 (Thu, 20 Feb 2025) EndedAt: 2025-02-20 23:18:17 -0500 (Thu, 20 Feb 2025) EllapsedTime: 360.4 seconds RetCode: 0 Status: WARNINGS CheckDir: seqArchRplus.Rcheck Warnings: 1