Package: seqArchRplus Version: 1.7.0 Command: /Library/Frameworks/R.framework/Resources/bin/R CMD build --keep-empty-dirs --no-resave-data seqArchRplus StartedAt: 2025-02-20 18:14:37 -0500 (Thu, 20 Feb 2025) EndedAt: 2025-02-20 18:17:30 -0500 (Thu, 20 Feb 2025) EllapsedTime: 173.8 seconds RetCode: 0 Status: OK PackageFile: seqArchRplus_1.7.0.tar.gz PackageFileSize: 3.687 MiB