Package: seqArchRplus Version: 1.7.0 Command: rm -rf seqArchRplus.buildbin-libdir && mkdir seqArchRplus.buildbin-libdir && /Users/biocbuild/BBS/utils/build-universal.sh seqArchRplus_1.7.0.tar.gz /Library/Frameworks/R.framework/Resources/bin/R seqArchRplus.buildbin-libdir StartedAt: 2025-02-21 00:53:05 -0500 (Fri, 21 Feb 2025) EndedAt: 2025-02-21 00:53:39 -0500 (Fri, 21 Feb 2025) EllapsedTime: 33.5 seconds RetCode: 0 Status: OK PackageFile: seqArchRplus_1.7.0.tgz PackageFileSize: 3.791 MiB