Package: seqArchR Version: 1.11.0 Command: rm -rf seqArchR.buildbin-libdir && mkdir seqArchR.buildbin-libdir && E:\biocbuild\bbs-3.21-bioc\R\bin\R.exe CMD INSTALL --build --library=seqArchR.buildbin-libdir seqArchR_1.11.0.tar.gz StartedAt: 2025-02-19 08:23:54 -0500 (Wed, 19 Feb 2025) EndedAt: 2025-02-19 08:24:29 -0500 (Wed, 19 Feb 2025) EllapsedTime: 35.9 seconds RetCode: 0 Status: OK PackageFile: seqArchR_1.11.0.zip PackageFileSize: 1.48 MiB