Package: seqArchR Version: 1.11.0 Command: /home/biocbuild/bbs-3.21-bioc/R/bin/R CMD INSTALL seqArchR StartedAt: 2025-02-17 15:22:29 -0500 (Mon, 17 Feb 2025) EndedAt: 2025-02-17 15:22:45 -0500 (Mon, 17 Feb 2025) EllapsedTime: 15.6 seconds RetCode: 0 Status: OK