Package: seqArchR Version: 1.11.0 Command: /home/biocbuild/bbs-3.21-bioc/R/bin/R CMD check --install=check:seqArchR.install-out.txt --library=/home/biocbuild/bbs-3.21-bioc/R/site-library --timings seqArchR_1.11.0.tar.gz StartedAt: 2025-02-18 02:11:15 -0500 (Tue, 18 Feb 2025) EndedAt: 2025-02-18 02:15:32 -0500 (Tue, 18 Feb 2025) EllapsedTime: 257.4 seconds RetCode: 0 Status: OK CheckDir: seqArchR.Rcheck Warnings: 0