Package: seqArchR Version: 1.11.0 Command: /home/biocbuild/bbs-3.21-bioc/R/bin/R CMD build --keep-empty-dirs --no-resave-data seqArchR StartedAt: 2025-02-17 19:07:53 -0500 (Mon, 17 Feb 2025) EndedAt: 2025-02-17 19:08:30 -0500 (Mon, 17 Feb 2025) EllapsedTime: 37.1 seconds RetCode: 0 Status: OK PackageFile: seqArchR_1.11.0.tar.gz PackageFileSize: 4.408 MiB