Package: seqArchR Version: 1.11.0 Command: /Library/Frameworks/R.framework/Resources/bin/R CMD check --install=check:seqArchR.install-out.txt --library=/Library/Frameworks/R.framework/Resources/library --no-vignettes --timings seqArchR_1.11.0.tar.gz StartedAt: 2025-02-17 21:21:57 -0500 (Mon, 17 Feb 2025) EndedAt: 2025-02-17 21:23:28 -0500 (Mon, 17 Feb 2025) EllapsedTime: 91.2 seconds RetCode: 0 Status: OK CheckDir: seqArchR.Rcheck Warnings: 0