Package: seq2pathway Version: 1.39.0 Command: E:\biocbuild\bbs-3.21-bioc\R\bin\R.exe CMD check --no-multiarch --install=check:seq2pathway.install-out.txt --library=E:\biocbuild\bbs-3.21-bioc\R\library --no-vignettes --timings seq2pathway_1.39.0.tar.gz StartedAt: 2025-02-21 05:39:13 -0500 (Fri, 21 Feb 2025) EndedAt: 2025-02-21 05:43:49 -0500 (Fri, 21 Feb 2025) EllapsedTime: 276.2 seconds RetCode: 0 Status: WARNINGS CheckDir: seq2pathway.Rcheck Warnings: 2