Package: seq2pathway Version: 1.39.0 Command: /home/biocbuild/bbs-3.21-bioc/R/bin/R CMD INSTALL seq2pathway StartedAt: 2025-02-20 15:57:33 -0500 (Thu, 20 Feb 2025) EndedAt: 2025-02-20 15:57:54 -0500 (Thu, 20 Feb 2025) EllapsedTime: 21.3 seconds RetCode: 0 Status: OK