Package: seq2pathway Version: 1.39.0 Command: /home/biocbuild/bbs-3.21-bioc/R/bin/R CMD check --install=check:seq2pathway.install-out.txt --library=/home/biocbuild/bbs-3.21-bioc/R/site-library --timings seq2pathway_1.39.0.tar.gz StartedAt: 2025-02-21 01:49:17 -0500 (Fri, 21 Feb 2025) EndedAt: 2025-02-21 01:53:26 -0500 (Fri, 21 Feb 2025) EllapsedTime: 248.4 seconds RetCode: 0 Status: WARNINGS CheckDir: seq2pathway.Rcheck Warnings: 2