Package: seq2pathway Version: 1.39.0 Command: /Library/Frameworks/R.framework/Resources/bin/R CMD INSTALL seq2pathway StartedAt: 2025-02-20 15:19:55 -0500 (Thu, 20 Feb 2025) EndedAt: 2025-02-20 15:20:05 -0500 (Thu, 20 Feb 2025) EllapsedTime: 9.2 seconds RetCode: 0 Status: OK