Package: seq2pathway Version: 1.39.0 Command: /Library/Frameworks/R.framework/Resources/bin/R CMD check --install=check:seq2pathway.install-out.txt --library=/Library/Frameworks/R.framework/Resources/library --no-vignettes --timings seq2pathway_1.39.0.tar.gz StartedAt: 2025-02-20 21:22:55 -0500 (Thu, 20 Feb 2025) EndedAt: 2025-02-20 21:24:21 -0500 (Thu, 20 Feb 2025) EllapsedTime: 86.0 seconds RetCode: 0 Status: WARNINGS CheckDir: seq2pathway.Rcheck Warnings: 2