Package: seq2pathway Version: 1.39.0 Command: rm -rf seq2pathway.buildbin-libdir && mkdir seq2pathway.buildbin-libdir && /Users/biocbuild/BBS/utils/build-universal.sh seq2pathway_1.39.0.tar.gz /Library/Frameworks/R.framework/Resources/bin/R seq2pathway.buildbin-libdir StartedAt: 2025-02-20 22:35:15 -0500 (Thu, 20 Feb 2025) EndedAt: 2025-02-20 22:35:26 -0500 (Thu, 20 Feb 2025) EllapsedTime: 10.2 seconds RetCode: 0 Status: OK PackageFile: seq2pathway_1.39.0.tgz PackageFileSize: 936.7 KiB