Package: seq.hotSPOT Version: 1.7.0 Command: E:\biocbuild\bbs-3.21-bioc\R\bin\R.exe CMD INSTALL seq.hotSPOT StartedAt: 2025-02-20 15:22:26 -0500 (Thu, 20 Feb 2025) EndedAt: 2025-02-20 15:22:35 -0500 (Thu, 20 Feb 2025) EllapsedTime: 9.4 seconds RetCode: 0 Status: OK