Package: seq.hotSPOT Version: 1.7.0 Command: chmod a+r seq.hotSPOT -R && E:\biocbuild\bbs-3.21-bioc\R\bin\R.exe CMD build --keep-empty-dirs --no-resave-data seq.hotSPOT StartedAt: 2025-02-20 21:44:35 -0500 (Thu, 20 Feb 2025) EndedAt: 2025-02-20 21:44:56 -0500 (Thu, 20 Feb 2025) EllapsedTime: 20.5 seconds RetCode: 0 Status: OK PackageFile: seq.hotSPOT_1.7.0.tar.gz PackageFileSize: 1.401 MiB