Package: seq.hotSPOT Version: 1.7.0 Command: /home/biocbuild/bbs-3.21-bioc/R/bin/R CMD INSTALL seq.hotSPOT StartedAt: 2025-02-20 15:05:16 -0500 (Thu, 20 Feb 2025) EndedAt: 2025-02-20 15:05:18 -0500 (Thu, 20 Feb 2025) EllapsedTime: 2.4 seconds RetCode: 0 Status: OK