Package: seq.hotSPOT Version: 1.7.0 Command: /Library/Frameworks/R.framework/Resources/bin/R CMD build --keep-empty-dirs --no-resave-data seq.hotSPOT StartedAt: 2025-02-20 17:35:28 -0500 (Thu, 20 Feb 2025) EndedAt: 2025-02-20 17:35:32 -0500 (Thu, 20 Feb 2025) EllapsedTime: 4.1 seconds RetCode: 0 Status: OK PackageFile: seq.hotSPOT_1.7.0.tar.gz PackageFileSize: 1.401 MiB