Package: semisup Version: 1.31.0 Command: chmod a+r semisup -R && E:\biocbuild\bbs-3.21-bioc\R\bin\R.exe CMD build --keep-empty-dirs --no-resave-data semisup StartedAt: 2025-02-20 21:44:28 -0500 (Thu, 20 Feb 2025) EndedAt: 2025-02-20 21:45:10 -0500 (Thu, 20 Feb 2025) EllapsedTime: 41.8 seconds RetCode: 0 Status: OK PackageFile: semisup_1.31.0.tar.gz PackageFileSize: 302.3 KiB