Package: semisup Version: 1.31.0 Command: /home/biocbuild/bbs-3.21-bioc/R/bin/R CMD INSTALL semisup StartedAt: 2025-02-20 15:12:11 -0500 (Thu, 20 Feb 2025) EndedAt: 2025-02-20 15:12:14 -0500 (Thu, 20 Feb 2025) EllapsedTime: 2.8 seconds RetCode: 0 Status: OK